Workbook

Sheet Выпол дох 2023г 1 прил
C1: Приложение № 1
B2: к решению Думы Оекского муниципального образования
B3: от "___" ___________ 20____ г. № ________
A5: ПОКАЗАТЕЛИ ИСПОЛНЕНИЯ БЮДЖЕТА ОЕКСКОГО МУНИЦИПАЛЬНОГО ОБРАЗОВАНИЯ ЗА 2023 ГОД ПО КОДАМ КЛАССИФИКАЦИИ ДОХОДОВ БЮДЖЕТОВ
A7: Наименование показателя | B7: Код ГАД | C7: Код дохода по бюджетной классификации | D7: Кассовое исполнение (руб)
A10: 1 | B10: 2 | C10: 3 | D10: 4
A11: Доходы бюджета - всего | B11: х | C11: х | D11: 98437458
A12: в том числе:
A13: НАЛОГОВЫЕ И НЕНАЛОГОВЫЕ ДОХОДЫ | B13: х | C13: 1000000000 0000 000 | D13: 41981362
A14: НАЛОГИ НА ТОВАРЫ (РАБОТЫ, УСЛУГИ), РЕАЛИЗУЕМЫЕ НА ТЕРРИТОРИИ РОССИЙСКОЙ ФЕДЕРАЦИИ | B14: 182 | C14: 1030000000 0000 000 | D14: =D15 -> 4442362.9
A15: Акцизы по подакцизным товарам (продукции), производимым на территории Российской Федерации | B15: 182 | C15: 1030200001 0000 110 | D15: =D16+D18+D19+D20 -> 4442362.9
A16: Доходы от уплаты акцизов на дизельное топливо, подлежащие распределению между бюджетами субъектов Российской Федерации и местными бюджетами с учетом установленных дифференцированных нормативов отчислений в местные бюджеты (по нормативам, установленным Федеральным законом о федеральном бюджете в целях формирования дорожных фондов субъектов Российской Федерации) | B16: 182 | C16: 1030223101 0000 110 | D16: 2301830.4
A17: Доходы от уплаты акцизов на моторные масла для дизельных и (или) карбюраторных (инжекторных) двигателей, подлежащие распределению между бюджетами субъектов Российской Федерации и местными бюджетами с учетом установленных дифференцированных нормативов отчислений в местные бюджеты | B17: 010 | C17: 000 1030224001 0000 110 | D17: 9704.23
A18: Доходы от уплаты акцизов на моторные масла для дизельных и (или) карбюраторных (инжекторных) двигателей, подлежащие распределению между бюджетами субъектов Российской Федерации и местными бюджетами с учетом установленных дифференцированных нормативов отчислений в местные бюджеты (по нормативам, установленным Федеральным законом о федеральном бюджете в целях формирования дорожных фондов субъектов Российской Федерации) | B18: 182 | C18: 1030224101 0000 110 | D18: 12022.25
A19: Доходы от уплаты акцизов на автомобильный бензин, подлежащие распределению между бюджетами субъектов Российской Федерации и местными бюджетами с учетом установленных дифференцированных нормативов отчислений в местные бюджеты (по нормативам, установленным Федеральным законом о федеральном бюджете в целях формирования дорожных фондов субъектов Российской Федерации) | B19: 182 | C19: 1030225101 0000 110 | D19: 2379121.3
A20: Доходы от уплаты акцизов на прямогонный бензин, подлежащие распределению между бюджетами субъектов Российской Федерации и местными бюджетами с учетом установленных дифференцированных нормативов отчислений в местные бюджеты (по нормативам, установленным Федеральным законом о федеральном бюджете в целях формирования дорожных фондов субъектов Российской Федерации) | B20: 182 | C20: 1030226101 0000 110 | D20: -250611.02
A21: НАЛОГИ НА ПРИБЫЛЬ, ДОХОДЫ | B21: 182 | C21: 1010000000 0000 000 | D21: =D22 -> 8060598.6
A22: Налог на доходы физических лиц | B22: 182 | C22: 1010200001 0000 110 | D22: =SUM(D23:D27) -> 8060598.6
A23: Налог на доходы физических лиц с доходов, источником которых является налоговый агент, за исключением доходов, в отношении которых исчисление и уплата налога осуществляются в соответствии со статьями 227, 227.1 и 228 Налогового кодекса Российской Федерации | B23: 182 | C23: 1010201001 0000 110 | D23: 7925238.8
A24: Налог на доходы физических лиц с доходов, полученных от осуществления деятельности физическими лицами, зарегистрированными в качестве индивидуальных предпринимателей, нотариусов, занимающихся частной практикой, адвокатов, учредивших адвокатские кабинеты, и других лиц, занимающихся частной практикой в соответствии со статьей 227 Налогового кодекса Российской Федерации | B24: 182 | C24: 1010202001 0000 110 | D24: 5949.44
A25: Налог на доходы физических лиц с доходов, полученных физическими лицами в соответствии со статьей 228 Налогового кодекса Российской Федерации | B25: 182 | C25: 1010203001 0000 110 | D25: 108093.59
A26: Налог на доходы физических лиц в виде фиксированных авансовых платежей с доходов, полученных физическими лицами, являющимися иностранными гражданами, осуществляющими трудовую деятельность по найму на основании патента в соответствии со статьей 2271 Налогового кодекса Российской Федерации (сумма платежа (перерасчеты, недоимка и задолженность по соответствующему платежу, в том числе по отмененному) | B26: 182 | C26: 1010204001 1000 110 | D26: 21308.8
A27: Налог на доходы физических лиц в отношении доходов от долевого участия в организации, полученных в виде дивидендов (в части суммы налога, не превышающей 650 000,00 рублей) сумма платежа (перерасчеты, недоимка и задолженность по соответствующему платежу, в том числе по отмененному) | B27: 182 | C27: 1010213001 1000 110 | D27: 7.91
A28: НАЛОГИ НА СОВОКУПНЫЙ ДОХОД | B28: 182 | C28: 1050000000 0000 000 | D28: =D29 -> 138007.26
A29: Единый сельскохозяйственный налог | B29: 182 | C29: 1050300001 0000 110 | D29: 138007.26
A30: Единый сельскохозяйственный налог | B30: 010 | C30: 000 1050301001 0000 110 | D30: 17916.88
A31: НАЛОГИ НА ИМУЩЕСТВО | B31: 182 | C31: 1060000000 0000 000 | D31: =D33+D34 -> 29176612
A32: Налог на имущество физических лиц | B32: 010 | C32: 1060100000 0000 110 | D32: 1687504.7
A33: Налог на имущество физических лиц, взимаемый по ставкам, применяемым к объектам налогообложения, расположенным в границах сельских поселений | B33: 182 | C33: 1060103010 0000 110 | D33: 982636.48
A34: Земельный налог | B34: 182 | C34: 1060600000 0000 110 | D34: =D36+D38 -> 28193976
A35: Земельный налог с организаций | B35: 010 | C35: 1060603000 0000 110 | D35: 12321337
A36: Земельный налог с организаций, обладающих земельным участком, расположенным в границах сельских поселений | B36: 182 | C36: 1060603310 0000 110 | D36: 24617975
A37: Земельный налог с физических лиц | B37: 010 | C37: 1060604000 0000 110 | D37: 3892089.9
A38: Земельный налог с физических лиц, обладающих земельным участком, расположенным в границах сельских поселений | B38: 182 | C38: 1060604310 0000 110 | D38: 3576000.3
A39: ШТРАФЫ, САНКЦИИ, ВОЗМЕЩЕНИЕ УЩЕРБА | B39: 182 | C39: 1160000000 0000 000 | D39: =D40 -> 163784.37
A40: Доходы от сумм пеней, предусмотренных законодательством Российской Федерации о налогах и сборах, подлежащие зачислению в бюджеты субъектов Российской Федерации по нормативу, установленному Бюджетным кодексом Российской Федерации, распределяемые Федеральным казначейством между бюджетами субъектов Российской Федерации в соответствии с федеральным законом о федеральном бюджете | B40: 182 | C40: 1161800002 0000 140 | D40: 163784.37
A41: ГОСУДАРСТВЕННАЯ ПОШЛИНА | B41: 182 | C41: 1080000000 0000 000 | D41: =D43 -> 15750
A42: Государственная пошлина за совершение нотариальных действий (за исключением действий, совершаемых консульскими учреждениями Российской Федерации) | B42: 726 | C42: 1080400001 0000 110 | D42: 0
A43: Государственная пошлина за совершение нотариальных действий должностными лицами органов местного самоуправления, уполномоченными в соответствии с законодательными актами Российской Федерации на совершение нотариальных действий | B43: 182 | C43: 1080402001 0000 110 | D43: 15750
A44: ДОХОДЫ ОТ ИСПОЛЬЗОВАНИЯ ИМУЩЕСТВА, НАХОДЯЩЕГОСЯ В ГОСУДАРСТВЕННОЙ И МУНИЦИПАЛЬНОЙ СОБСТВЕННОСТИ | B44: 726 | C44: 1110000000 0000 000 | D44: =D47+D50+D46 -> 402251.62
...

Sheet Выпол расх 2023г 2 прил
D1: Приложение № 2
D2: к решению Думы Оекского муниципального образования
C3: от "___" ___________ 20____ г. № ________
A5: ПОКАЗАТЕЛИ ИСПОЛНЕНИЯ БЮДЖЕТА ОЕКСКОГО МУНИЦИПАЛЬНОГО ОБРАЗОВАНИЯ ПО РАСХОДАМ ЗА 2023 ГОД ПО ПО ВЕДОМСТВЕННОЙ СТРУКТУРЕ РАСХОДОВ БЮДЖЕТА (ПО ГЛАВНЫМ РАСПОРЯДИТЕЛЯМ СРЕДСТВ БЮДЖЕТА, РАЗДЕЛАМ, ПОДРАЗДЕЛАМ, ЦЕЛЕВЫМ СТАТЬЯМ (ГОСУДАРСТВЕННЫМ ПРОГРАММАМ И НЕПРОГРАММНЫМ НАПРАВЛЕНИЯМ ДЕЯТЕЛЬНОСТИ), ГРУППАМ ВИДОВ РАСХОДОВ КЛАССИФИКАЦИИ РАСХОДОВ БЮДЖЕТОВ)
A7: Наименование показателя | B7: КВСР | C7: КФСР | D7: КЦСР | E7: Утвержденные бюджетные назначения | F7: КВР | G7: Кассовое исполнение, руб
A10: 1 | B10: 2 | D10: 3 | E10: 4 | G10: 4
A11: АДМИНИСТРАЦИЯ ОЕКСКОГО МУНИЦИПАЛЬНОГО ОБРАЗОВАНИЯ | B11: 726 | G11: =G12+G86+G102+G114+G136+G197+G226+G234+G242+G179+G188+0.02 -> 94895839
A12: ОБЩЕГОСУДАРСТВЕННЫЕ ВОПРОСЫ | B12: 726 | C12: 0100 | G12: =G13+G22+G58+G65+G51+5075 -> 39456763
A13: Функционирование высшего должностного лица субъекта Российской Федерации и муниципального образования | B13: 726 | C13: 0102 | G13: =G14 -> 3074328.2
A14: Непрограммные расходы органов местного самоуправления | B14: 726 | C14: 0102 | D14: 9100000000 | G14: =G15 -> 3074328.2
A15: Непрограммные расходы органов местного самоуправления за счет средств местного бюджета | B15: 726 | C15: 0102 | D15: 9110000000 | G15: =G16 -> 3074328.2
A16: Осуществление органами местного самоуправления полномочий местного значения поселения | B16: 726 | C16: 0102 | D16: 9110060000 | G16: =G18 -> 3074328.2
A17: Обеспечение деятельности в сфере установленных функций | B17: 726 | C17: 0102 | D17: 9110060001 | G17: =G18 -> 3074328.2
A18: Расходы на выплаты персоналу в целях обеспечения выполнения функций государственными (муниципальными) органами, казенными учреждениями, органами управления государственными внебюджетными фондами | B18: 726 | C18: 0102 | D18: 9110060001 | E18: 100 | F18: 100 | G18: =G19 -> 3074328.2
A19: Расходы на выплаты персоналу государственных (муниципальных) органов | B19: 726 | C19: 0102 | D19: 9110060001 | E19: 120 | F19: 120 | G19: =G20+G21 -> 3074328.2
A20: Фонд оплаты труда государственных (муниципальных) органов | B20: 726 | C20: 0102 | D20: 9110060001 | E20: 121 | F20: 121 | G20: 2358285
A21: Взносы по обязательному социальному страхованию на выплаты денежного содержания и иные выплаты работникам государственных (муниципальных) органов | B21: 726 | C21: 0102 | D21: 9110060001 | E21: 129 | F21: 129 | G21: 716043.23
A22: Функционирование Правительства Российской Федерации, высших исполнительных органов государственной власти субъектов Российской Федерации, местных администраций | B22: 726 | C22: 0104 | G22: =+G23 -> 26494363
A23: Непрограммные расходы органов местного самоуправления | B23: 726 | C23: 0104 | D23: 9100000000 | G23: =G24 -> 26494363
A24: Непрограммные расходы органов местного самоуправления за счет средств местного бюджета | B24: 726 | C24: 0104 | D24: 9110000000 | G24: =G25 -> 26494363
A25: Осуществление органами местного самоуправления полномочий местного значения поселения | B25: 726 | C25: 0104 | D25: 9110060000 | G25: =G26 -> 26494363
A26: Обеспечение деятельности в сфере установленных функций | B26: 726 | C26: 0104 | D26: 9110060001 | G26: =G27+G32+G39+G36 -> 26494363
A27: Расходы на выплаты персоналу в целях обеспечения выполнения функций государственными (муниципальными) органами, казенными учреждениями, органами управления государственными внебюджетными фондами | C27: 0104 | D27: 9110060001 | E27: 100 | F27: 100 | G27: =G28 -> 24230754
A28: Расходы на выплаты персоналу государственных (муниципальных) органов | B28: 726 | C28: 0104 | D28: 9110060001 | E28: 120 | F28: 120 | G28: =G29+G31+G30 -> 24230754
A29: Фонд оплаты труда государственных (муниципальных) органов | B29: 726 | C29: 0104 | D29: 9110060001 | E29: 121 | F29: 121 | G29: 18490556
A30: Иные выплаты персоналу государственных (муниципальных) органов, за исключением фонда оплаты труда | B30: 727 | C30: 0104 | D30: 9110060001 | E30: 121 | F30: 122 | G30: 13550
A31: Взносы по обязательному социальному страхованию на выплаты денежного содержания и иные выплаты работникам государственных (муниципальных) органов | B31: 726 | C31: 0104 | D31: 9110060001 | E31: 129 | F31: 129 | G31: 5726649
A32: Закупка товаров, работ и услуг для обеспечения государственных (муниципальных) нужд | B32: 726 | C32: 0104 | D32: 9110060001 | E32: 200 | F32: 200 | G32: =G33 -> 2185909.1
A33: Иные закупки товаров, работ и услуг для обеспечения государственных (муниципальных) нужд | B33: 726 | C33: 0104 | D33: 9110060001 | E33: 240 | F33: 240 | G33: =G34+G35 -> 2185909.1
A34: Прочая закупка товаров, работ и услуг | B34: 726 | C34: 0104 | D34: 9110060001 | E34: 244 | F34: 244 | G34: 1864158.1
A35: Закупка энергетических ресурсов | B35: 726 | C35: 0104 | D35: 9110060001 | F35: 247 | G35: 321751.03
A36: Социальное обеспечение и иные выплаты населению | B36: 726 | C36: 0104 | D36: 9110060001 | E36: 300 | F36: 300 | G36: =SUM(G37:G38) -> 66000
A37: Премии и гранты | B37: 726 | C37: 0104 | D37: 9110060001 | E37: 350 | F37: 350 | G37: 6000
A38: Иные выплаты населению | B38: 726 | C38: 0104 | D38: 9110060001 | E38: 360 | F38: 360 | G38: 60000
A39: Иные бюджетные ассигнования | B39: 726 | C39: 0104 | D39: 9110060001 | E39: 800 | F39: 800 | G39: =G42+G40 -> 11699.55
A40: Исполнение судебных актов | B40: 726 | C40: 0104 | D40: 9110060001 | E40: 830 | F40: 830 | G40: =G41 -> 0
A41: Исполнение судебных актов РФ и мировых соглашений по возмещению вреда, причиненного в результате незаконных действий (бездействия) органов государственной власти (государственных органов), органов местного самоуправления либо должностных лиц этих органов, а также в результате деятельности учреждений | B41: 726 | C41: 0104 | D41: 9110060001 | E41: 831 | F41: 831 | G41: 0
A42: Уплата налогов, сборов и иных платежей | B42: 726 | C42: 0104 | D42: 9110060001 | E42: 850 | F42: 850 | G42: =G44+G45+G43 -> 11699.55
A43: Уплата налога на имущество организаций и земельного налога | B43: 726 | C43: 0104 | D43: 9110060001 | E43: 851 | F43: 851 | G43: 0
A44: Уплата прочих налогов, сборов | B44: 726 | C44: 0104 | D44: 9110060001 | E44: 852 | F44: 852 | G44: 9032
...

Sheet Выпол расх 2023 3 прил
B1: Приложение № 3
B2: к решению Думы Оекского муниципального образования
A3: от "___" ___________ 20____ г. № ________
A7: ПОКАЗАТЕЛИ ИСПОЛНЕНИЕ БЮДЖЕТА ОЕКСКОГО МУНИЦИПАЛЬНОГО ОБРАЗОВАНИЯ ПО РАСХОДАМ ЗА 2023 ГОД ПО РАЗДЕЛАМ И ПОДРАЗДЕЛАМ КЛАССИФИКАЦИИ РАСХОДОВ БЮДЖЕТА
A9: Наименование | B9: РЗ | C9: ПР | D9: Кассовое исполнение (руб)
A10: ОБЩЕГОСУДАРСТВЕННЫЕ ВОПРОСЫ | B10: 01 | D10: ='Выпол расх 2023г 2 прил'!G12 -> 39456763
A11: Функционирование высшего должностного лица субъекта Российской Федерации и органа местного самоуправления | B11: 01 | C11: 02 | D11: ='Выпол расх 2023г 2 прил'!G13 -> 3074328.2
A12: Функционирование законодательных (представительных) органов государственной власти субъектов Российской Федерации и органов местного самоуправления | B12: 01 | C12: 03 | D12: 0
A13: Функционирование Правительства Российской Федерации, высших исполнительных органов государственной власти субъектов РФ, местных администраций | B13: 01 | C13: 04 | D13: ='Выпол расх 2023г 2 прил'!G22 -> 26494363
A14: Обеспечение проведения выборов и референдумов | B14: 01 | C14: 07 | D14: ='Выпол расх 2023г 2 прил'!G51 -> 0
A15: Резервные фонды | B15: 01 | C15: 11 | D15: ='Выпол расх 2023г 2 прил'!G58 -> 0
A16: Другие общегосударственные вопросы | B16: 01 | C16: 13 | D16: ='Выпол расх 2023г 2 прил'!G66 -> 9882996.7
A17: НАЦИОНАЛЬНАЯ ОБОРОНА | B17: 02 | D17: ='Выпол расх 2023г 2 прил'!G86 -> 457800
A18: Мобилизационная и вневойсковая подготовка | B18: 02 | C18: 03 | D18: 457800
A19: НАЦИОНАЛЬНАЯ БЕЗОПАСНОСТЬ И ПРАВОХРАНИТЕЛЬНАЯ ДЕЯТЕЛЬНОСТЬ | B19: 03 | D19: ='Выпол расх 2023г 2 прил'!G103 -> 510217
A20: Обеспечение пожарной безопасности | B20: 03 | C20: 10 | D20: ='Выпол расх 2023г 2 прил'!G103 -> 510217
A21: НАЦИОНАЛЬНАЯ ЭКОНОМИКА | B21: 04 | D21: =D23+D22 -> 2602764.6
A22: Дорожное хозяйство | B22: 04 | C22: 09 | D22: ='Выпол расх 2023г 2 прил'!G116 -> 1253665.6
A23: Другие вопросы в области национальной экономики | B23: 04 | C23: 12 | D23: ='Выпол расх 2023г 2 прил'!G122 -> 1349099
A24: ЖИЛИЩНО-КОММУНАЛЬНОЕ ХОЗЯЙСТВО | B24: 05 | D24: =D25+D27+D26 -> 9475840.7
A25: Жилищное хозяйство | B25: 05 | C25: 01
A26: Коммунальное хозяйство | B26: 05 | C26: 02
A27: Благоустройство | B27: 05 | C27: 03 | D27: ='Выпол расх 2023г 2 прил'!G137 -> 9475840.7
A28: ОХРАНА ОКРУЖАЮЩЕЙ СРЕДЫ | B28: 06 | D28: ='Выпол расх 2023г 2 прил'!G179 -> 1127083.4
A29: Другие вопросы в области охраны окружающей среды | B29: 06 | C29: 05 | D29: =D28 -> 1127083.4
A30: ОБРАЗОВАНИЕ | B30: 07 | D30: ='Выпол расх 2023г 2 прил'!G188 -> 41500
A31: СРЕДНЕЕ ПРОФЕССИОНАЛЬНОЕ ОБРАЗОВАНИЕ | B31: 07 | C31: 04 | D31: ='Выпол расх 2023г 2 прил'!G190 -> 12500
A32: ПРОФЕССИОНАЛЬНАЯ ПОДГОТОВКА, ПЕРЕПОДГОТОВКА И ПОВЫШЕНИЕ КВАЛИФИКАЦИИ | B32: 07 | C32: 05 | D32: ='Выпол расх 2023г 2 прил'!G193 -> 29000
A33: КУЛЬТУРА, КИНЕМАТОГРАФИЯ | B33: 08 | D33: =D34 -> 40187762
A34: Культура | B34: 08 | C34: 01 | D34: ='Выпол расх 2023г 2 прил'!G197 -> 40187762
A35: СОЦИАЛЬНАЯ ПОЛИТИКА | B35: 10 | D35: =D36 -> 731424
A36: Пенсионное обеспечение | B36: 10 | C36: 01 | D36: ='Выпол расх 2023г 2 прил'!G227 -> 731424
A37: ОБСЛУЖИВАНИЕ ГОСУДАРСТВЕННОГО И МУНИЦИПАЛЬНОГО ДОЛГА | B37: 13 | C37: 00 | D37: =D38 -> 51068.6
A38: Обслуживание государственного внутреннего и муниципального долга | B38: 13 | C38: 01 | D38: ='Выпол расх 2023г 2 прил'!G234 -> 51068.6
A39: МЕЖБЮДЖЕТНЫЕ ТРАНСФЕРТЫ ОБЩЕГО ХАРАКТЕРА БЮДЖЕТАМ БЮДЖЕТНОЙ СИСТЕМЫ РОССИЙСКОЙ ФЕДЕРАЦИИ | B39: 14 | D39: =D40 -> 253615.28
A40: Прочие межбюджетные трансферты общего характера | B40: 14 | C40: 03 | D40: ='Выпол расх 2023г 2 прил'!G249 -> 253615.28
A41: ИТОГО РАСХОДОВ | D41: =D10+D17+D19+D21+D24+D33+D35+D39+D37+D28+D30+0.02 -> 94895839

Sheet Выпол по источ 2024г 4 прил 
C1: Приложение № 4
C2: к решению Думы Оекского муниципального образования
A3: от "___" ___________ 20____ г. № ________
A5: ПОКАЗАТЕЛИ ИСПОЛНЕНИЕ БЮДЖЕТА ОЕКСКОГО МУНИЦИПАЛЬНОГО ОБРАЗОВАНИЯ ПО ИСТОЧНИКАМ ФИНАНСИРОВАНИЯ ДЕФИЦИТА БЮДЖЕТА ЗА 2023 ГОД ПО КОДАМ КЛАССИФИКАЦИИ ИСТОЧНИКОВ ФИНАНСИРОВАНИЯ ДЕФИЦИТОВ БЮДЖЕТОВ
A7: Наименование показателей | B7: Код строки | C7: Код источников финансирования | D7: Утвержденные бюджетные назначения | E7: Сумма, тыс.руб | F7: Неисполненные назначения
A9: 1 | C9: 2 | E9: 3
A10: Источники финансирования дефицита бюджета - всего | E10: =E24+E20 -> -3541619.1
A11: Кредиты кредитных организаций в валюте Российской Федерации | C11: 72601020000000000000 | E11: =E12+E15 -> 0
A12: Получение кредитов от кредитных организаций в валюте Российской Федерации | B12: 2 | C12: 72601020000000000700 | D12: 4 | E12: =E13 -> 0 | F12: 6
A13: Кредиты, полученные в валюте Российской Федерации от кредитных организаций | B13: 500 | C13: 72601020000000000710 | D13: =D27+D21+D14 -> #REF! | E13: =E14 -> 0 | F13: 5465624.3
A14: Получение кредитов от кредитных организаций бюджетами поселений в валюте Российской Федерации | C14: 72601020000100000710 | D14: =D15+D18 -> 0 | E14: 0
A15: Погашение кредитов, предоставленных кредитными организациями в валюте Российской Федерации | B15: 520 | C15: 726 01 02 00 00 00 0000 800 | D15: =D16 -> 0 | E15: =E16 -> 0 | F15: 2319100
A16: Кредиты, полученные в валюте Российской Федерации от кредитных организаций | C16: 726 01 02 00 00 00 0000 810 | D16: =D17 -> 0 | E16: =E17 -> 0
A17: Погашение бюджетами поселений кредитов от кредитных организаций в валюте Российской Федерации | B17: 520 | C17: 726 01 02 00 00 10 0000 810 | D17: 0 | E17: 0 | F17: 2319100
A18: Бюджетные кредиты из других бюджетов бюджетной системы Российской Федерации | B18: 520 | C18: 72601030000000000000 | D18: =D19 -> 0 | E18: =E19 -> -2020000 | F18: 2319100
A19: Бюджетные кредиты из других бюджетов бюджетной системы Российской Федерации в валюте Российской Федерации | B19: 520 | C19: 72601030100000000000 | D19: =D20 -> 0 | E19: =E20+E22 -> -2020000 | F19: 2319100
A20: Привлечение бюджетных кредитов из других бюджетов бюджетной системы Российской Федерации в валюте Российской Федерации | B20: 520 | C20: 72601030100000000700 | D20: 0 | E20: =E21 -> -1010000 | F20: -
A21: Привлечение кредитов из других бюджетов бюджетной системы Российской Федерации бюджетами сельских поселений в валюте Российской Федерации | B21: 520 | C21: 72601030100100000710 | D21: =D22 -> 1480 | E21: -1010000 | F21: -
A22: Погашение бюджетных кредитов, полученных от других бюджетов бюджетной системы Российской Федерации в валюте Российской Федерации | B22: 520 | C22: 72601030100000000800 | D22: =D23+D25 -> 1480 | E22: =E23 -> -1010000 | F22: -
A23: Погашение бюджетами поселений кредитов от других бюджетов бюджетной системы Российской Федерации в валюте Российской Федерации | B23: 520 | C23: 72601030100100000810 | D23: =D24 -> 1480 | E23: -1010000 | F23: -
A24: Изменение остатков средств на счетах по учету средств бюджета | B24: 520 | C24: 72601050000000000000 | D24: 1480 | E24: =E25+E32 -> -2531619.1 | F24: -
A25: Увеличение остатков средств бюджетов | B25: 520 | C25: 72601050000000000500 | D25: =D26 -> 0 | E25: =E26 -> -99632403 | F25: -
A26: Увеличение прочих остатков средств бюджетов | B26: 620 | C26: 72601050200000000500 | D26: 0 | E26: =E27 -> -99632403 | F26: -
A27: Увеличение прочих остатков денежных средств бюджетов | C27: 72601050201000000510 | D27: =D28+#REF! -> #REF! | E27: =E28 -> -99632403
A28: Увеличение прочих остатков денежных средств бюджетов поселений | B28: 700 | C28: 72601050201100000510 | D28: =D29 -> -1480.1 | E28: =-99632403.43 -> -99632403 | F28: 3146524.3
A29: Уменьшение остатков средств бюджетов | B29: 710 | C29: 72601050000000000600 | D29: =D30 -> -1480.1 | E29: =E30 -> 97100784 | F29: X
A30: Уменьшение прочих остатков средств бюджетов | B30: 710 | C30: 72601050200000000600 | D30: =D31 -> -1480.1 | E30: =E31 -> 97100784 | F30: X
A31: Уменьшение прочих остатков денежных средств бюджетов | B31: 710 | C31: 72601050201000000610 | D31: =-'[1]прил№1 '!D97-D21-0.1 -> -1480.1 | E31: =E32 -> 97100784 | F31: X
A32: Уменьшение прочих остатков денежных средств бюджетов поселений | B32: 710 | C32: 72601050201100000610 | D32: =#REF! -> #REF! | E32: 97100784 | F32: X
